BEGIN:VCALENDAR
VERSION:2.0
PRODID:-//eventon.com NONSGML v1.0//EN
CALSCALE:GREGORIAN
METHOD:PUBLISH
BEGIN:VEVENT
UID:69ea3202d8d7d
DTSTAMP:20260423T145146Z
DTSTART:20260421T110000Z
DTEND:20260426T230000Z
LOCATION:
SUMMARY:Markham Earth Month 2026
DESCRIPTION:With interactive\,  family-friendly events: Each April\,  the C
 ity of Markham marks Earth Month with a series of initiatives that highligh
 t its commitment to environmental conservation\,  sustainability\,  and com
 munity wellbeing. Residents are invited to take part in this year’s celeb
 rations\,  which reflect Markham’s leadership in sustainability through i
 ts Greenprint Community Sustainability[..]\nhttps://yorkregionlifestyle.com
 /events/markham-earth-month-2026/
URL:https://yorkregionlifestyle.com/events/markham-earth-month-2026/
END:VEVENT
END:VCALENDAR