BEGIN:VCALENDAR
VERSION:2.0
PRODID:-//eventon.com NONSGML v1.0//EN
CALSCALE:GREGORIAN
METHOD:PUBLISH
BEGIN:VEVENT
UID:69ea320185db2
DTSTAMP:20260423T145145Z
DTSTART:20260417T120000Z
DTEND:20260519T183100Z
LOCATION:
SUMMARY:Earth Month in Richmond Hill
DESCRIPTION:RICHMOND HILL –&nbsp;April marks Earth Month\,  a time to app
 reciate our natural surroundings and work together to protect them. To enco
 urage community involvement\,  the City of Richmond Hill is offering a vari
 ety of eco-themed\,  family-friendly programs: April 16 to May 19 – Healt
 hy Yards Plant & Garden SaleResidents can pre-order[..]\nhttps://yorkregion
 lifestyle.com/events/earth-month-in-richmond-hill/
URL:https://yorkregionlifestyle.com/events/earth-month-in-richmond-hill/
END:VEVENT
END:VCALENDAR