BEGIN:VCALENDAR
VERSION:2.0
PRODID:-//eventon.com NONSGML v1.0//EN
CALSCALE:GREGORIAN
METHOD:PUBLISH
BEGIN:VEVENT
UID:69ea3232a6512
DTSTAMP:20260423T145234Z
DTSTART:20260423T230000Z
DTEND:20260424T023000Z
LOCATION:
SUMMARY:Line Dancing Social
DESCRIPTION:Looking for a lively night of country music and dancing for any
  level of experience? You're in the right spot! Looking for a lively night 
 of country music and dancing for any level of experience? Country Nights at
  19 on the Park welcomes dancers of all skill levels! Whether you’re[..]\
 nhttps://yorkregionlifestyle.com/events/line-dancing-social/
URL:https://yorkregionlifestyle.com/events/line-dancing-social/
END:VEVENT
END:VCALENDAR