BEGIN:VCALENDAR
VERSION:2.0
PRODID:-//eventon.com NONSGML v1.0//EN
CALSCALE:GREGORIAN
METHOD:PUBLISH
BEGIN:VEVENT
UID:69ea3201810b8
DTSTAMP:20260423T145145Z
DTSTART:20260420T150000Z
DTEND:20260424T000000Z
LOCATION:
SUMMARY:Jimmy Choo Warehouse Sale
DESCRIPTION:🛍 Jimmy Choo Warehouse Sale (Vaughan)April 20–23 | Free en
 try 50–80% off shoes\,  handbags & accessories — one of the biggest spr
 ing shopping events in the region.\nhttps://yorkregionlifestyle.com/events/
 testing/
URL:https://yorkregionlifestyle.com/events/testing/
END:VEVENT
END:VCALENDAR